BEGIN:VCALENDAR
VERSION:2.0
PRODID:-//1860 Saloon - ECPv6.15.20//NONSGML v1.0//EN
CALSCALE:GREGORIAN
METHOD:PUBLISH
X-WR-CALNAME:1860 Saloon
X-ORIGINAL-URL:https://1860saloon.com
X-WR-CALDESC:Events for 1860 Saloon
REFRESH-INTERVAL;VALUE=DURATION:PT1H
X-Robots-Tag:noindex
X-PUBLISHED-TTL:PT1H
BEGIN:VTIMEZONE
TZID:America/Chicago
BEGIN:DAYLIGHT
TZOFFSETFROM:-0600
TZOFFSETTO:-0500
TZNAME:CDT
DTSTART:20250309T080000
END:DAYLIGHT
BEGIN:STANDARD
TZOFFSETFROM:-0500
TZOFFSETTO:-0600
TZNAME:CST
DTSTART:20251102T070000
END:STANDARD
BEGIN:DAYLIGHT
TZOFFSETFROM:-0600
TZOFFSETTO:-0500
TZNAME:CDT
DTSTART:20260308T080000
END:DAYLIGHT
BEGIN:STANDARD
TZOFFSETFROM:-0500
TZOFFSETTO:-0600
TZNAME:CST
DTSTART:20261101T070000
END:STANDARD
BEGIN:DAYLIGHT
TZOFFSETFROM:-0600
TZOFFSETTO:-0500
TZNAME:CDT
DTSTART:20270314T080000
END:DAYLIGHT
BEGIN:STANDARD
TZOFFSETFROM:-0500
TZOFFSETTO:-0600
TZNAME:CST
DTSTART:20271107T070000
END:STANDARD
END:VTIMEZONE
BEGIN:VEVENT
DTSTART;VALUE=DATE:20260501
DTEND;VALUE=DATE:20260502
DTSTAMP:20260422T103413
CREATED:20250508T180042Z
LAST-MODIFIED:20251230T021535Z
UID:10004114-1777593600-1777679999@1860saloon.com
SUMMARY:Music in the Saloon! Rick Green & Friend\, 6 to 8 p.m. Fridays
DESCRIPTION:Kick off the weekend with Rick and friends in the Saloon\, 6 to 8 p.m. \nFriends scheduled monthly: First Friday is Mike Thomas. Second and fifth Friday is Tio. Solo on the third Friday and with Jammin Jaymz joins him on the fourth Friday of the month.
URL:https://1860saloon.com/event/music-in-the-saloon-rick-green-friend-6-to-8-p-m-fridays-2/2026-05-01/
LOCATION:Location\, 1860 S 9th St.\, St. Louis\, MO\, 63104\, United States
CATEGORIES:live music
ATTACH;FMTTYPE=image/jpeg:https://1860saloon.com/wp-content/uploads/2025/04/rick-green--scaled.jpeg
END:VEVENT
BEGIN:VEVENT
DTSTART;VALUE=DATE:20260502
DTEND;VALUE=DATE:20260503
DTSTAMP:20260422T103413
CREATED:20260208T181149Z
LAST-MODIFIED:20260208T181800Z
UID:10004167-1777680000-1777766399@1860saloon.com
SUMMARY:Music: Soul Reunion\, 2-6 pm\, no cover
DESCRIPTION:Saturday fun in the Saloon! 2-6 p.m.
URL:https://1860saloon.com/event/music-soul-reunion-2-6-pm-no-cover-2-2-2/2026-05-02/
LOCATION:Location\, 1860 S 9th St.\, St. Louis\, MO\, 63104\, United States
CATEGORIES:live music
ATTACH;FMTTYPE=image/jpeg:https://1860saloon.com/wp-content/uploads/2025/04/1860-Saloon-Live-Music-scaled.jpg
END:VEVENT
BEGIN:VEVENT
DTSTART;VALUE=DATE:20260504
DTEND;VALUE=DATE:20260505
DTSTAMP:20260422T103413
CREATED:20251230T020516Z
LAST-MODIFIED:20251230T020608Z
UID:10003998-1777852800-1777939199@1860saloon.com
SUMMARY:Live in 1860 Saloon: Natchez Whistle (Nate & Dan)\, 8-midnight\, no cover
DESCRIPTION:Live music In the Saloon playing Americana. No Cover
URL:https://1860saloon.com/event/live-in-1860-saloon-natchez-whistle-nate-dan-8-midnight-no-cover-2-2/2026-05-04/
LOCATION:Location\, 1860 S 9th St.\, St. Louis\, MO\, 63104\, United States
CATEGORIES:live music
ATTACH;FMTTYPE=image/jpeg:https://1860saloon.com/wp-content/uploads/2025/04/Natchez-Whistle-Nate-Dan-scaled-1.jpg
END:VEVENT
BEGIN:VEVENT
DTSTART;VALUE=DATE:20260505
DTEND;VALUE=DATE:20260506
DTSTAMP:20260422T103413
CREATED:20250508T161121Z
LAST-MODIFIED:20251230T020855Z
UID:10004050-1777939200-1778025599@1860saloon.com
SUMMARY:Open Mic Night Every Tuesday in the 1860 Saloon\, 8 to Midnight
DESCRIPTION:See why many local musicians made this part of their career journey – and keep coming back for the fun! No cover
URL:https://1860saloon.com/event/open-mic-night-every-tuesday-in-the-1860-saloon-9-1-a-m-2/2026-05-05/
LOCATION:Location\, 1860 S 9th St.\, St. Louis\, MO\, 63104\, United States
CATEGORIES:live music
ATTACH;FMTTYPE=image/jpeg:https://1860saloon.com/wp-content/uploads/2025/04/1860s-Open-Mic-Pic.jpg
END:VEVENT
BEGIN:VEVENT
DTSTART;VALUE=DATE:20260506
DTEND;VALUE=DATE:20260507
DTSTAMP:20260422T103413
CREATED:20250917T143525Z
LAST-MODIFIED:20251230T021212Z
UID:10004089-1778025600-1778111999@1860saloon.com
SUMMARY:Live at 1860s! Pat White\, 9 pm – 1 am\, no cover
DESCRIPTION:Join Pat in the Saloon\, no cover!
URL:https://1860saloon.com/event/live-at-1860s-pat-white-no-cover-11/2026-05-06/
LOCATION:Location\, 1860 S 9th St.\, St. Louis\, MO\, 63104\, United States
CATEGORIES:live music
ATTACH;FMTTYPE=image/jpeg:https://1860saloon.com/wp-content/uploads/2025/04/pat-white.jpg
END:VEVENT
BEGIN:VEVENT
DTSTART;VALUE=DATE:20260508
DTEND;VALUE=DATE:20260509
DTSTAMP:20260422T103414
CREATED:20250508T180042Z
LAST-MODIFIED:20251230T021535Z
UID:10004115-1778198400-1778284799@1860saloon.com
SUMMARY:Music in the Saloon! Rick Green & Friend\, 6 to 8 p.m. Fridays
DESCRIPTION:Kick off the weekend with Rick and friends in the Saloon\, 6 to 8 p.m. \nFriends scheduled monthly: First Friday is Mike Thomas. Second and fifth Friday is Tio. Solo on the third Friday and with Jammin Jaymz joins him on the fourth Friday of the month.
URL:https://1860saloon.com/event/music-in-the-saloon-rick-green-friend-6-to-8-p-m-fridays-2/2026-05-08/
LOCATION:Location\, 1860 S 9th St.\, St. Louis\, MO\, 63104\, United States
CATEGORIES:live music
ATTACH;FMTTYPE=image/jpeg:https://1860saloon.com/wp-content/uploads/2025/04/rick-green--scaled.jpeg
END:VEVENT
BEGIN:VEVENT
DTSTART;VALUE=DATE:20260509
DTEND;VALUE=DATE:20260510
DTSTAMP:20260422T103414
CREATED:20260208T181149Z
LAST-MODIFIED:20260208T181800Z
UID:10004168-1778284800-1778371199@1860saloon.com
SUMMARY:Music: Soul Reunion\, 2-6 pm\, no cover
DESCRIPTION:Saturday fun in the Saloon! 2-6 p.m.
URL:https://1860saloon.com/event/music-soul-reunion-2-6-pm-no-cover-2-2-2/2026-05-09/
LOCATION:Location\, 1860 S 9th St.\, St. Louis\, MO\, 63104\, United States
CATEGORIES:live music
ATTACH;FMTTYPE=image/jpeg:https://1860saloon.com/wp-content/uploads/2025/04/1860-Saloon-Live-Music-scaled.jpg
END:VEVENT
BEGIN:VEVENT
DTSTART;VALUE=DATE:20260511
DTEND;VALUE=DATE:20260512
DTSTAMP:20260422T103414
CREATED:20251230T020516Z
LAST-MODIFIED:20251230T020608Z
UID:10003999-1778457600-1778543999@1860saloon.com
SUMMARY:Live in 1860 Saloon: Natchez Whistle (Nate & Dan)\, 8-midnight\, no cover
DESCRIPTION:Live music In the Saloon playing Americana. No Cover
URL:https://1860saloon.com/event/live-in-1860-saloon-natchez-whistle-nate-dan-8-midnight-no-cover-2-2/2026-05-11/
LOCATION:Location\, 1860 S 9th St.\, St. Louis\, MO\, 63104\, United States
CATEGORIES:live music
ATTACH;FMTTYPE=image/jpeg:https://1860saloon.com/wp-content/uploads/2025/04/Natchez-Whistle-Nate-Dan-scaled-1.jpg
END:VEVENT
BEGIN:VEVENT
DTSTART;VALUE=DATE:20260512
DTEND;VALUE=DATE:20260513
DTSTAMP:20260422T103414
CREATED:20250508T161121Z
LAST-MODIFIED:20251230T020855Z
UID:10004051-1778544000-1778630399@1860saloon.com
SUMMARY:Open Mic Night Every Tuesday in the 1860 Saloon\, 8 to Midnight
DESCRIPTION:See why many local musicians made this part of their career journey – and keep coming back for the fun! No cover
URL:https://1860saloon.com/event/open-mic-night-every-tuesday-in-the-1860-saloon-9-1-a-m-2/2026-05-12/
LOCATION:Location\, 1860 S 9th St.\, St. Louis\, MO\, 63104\, United States
CATEGORIES:live music
ATTACH;FMTTYPE=image/jpeg:https://1860saloon.com/wp-content/uploads/2025/04/1860s-Open-Mic-Pic.jpg
END:VEVENT
BEGIN:VEVENT
DTSTART;VALUE=DATE:20260515
DTEND;VALUE=DATE:20260516
DTSTAMP:20260422T103414
CREATED:20250508T180042Z
LAST-MODIFIED:20251230T021535Z
UID:10004116-1778803200-1778889599@1860saloon.com
SUMMARY:Music in the Saloon! Rick Green & Friend\, 6 to 8 p.m. Fridays
DESCRIPTION:Kick off the weekend with Rick and friends in the Saloon\, 6 to 8 p.m. \nFriends scheduled monthly: First Friday is Mike Thomas. Second and fifth Friday is Tio. Solo on the third Friday and with Jammin Jaymz joins him on the fourth Friday of the month.
URL:https://1860saloon.com/event/music-in-the-saloon-rick-green-friend-6-to-8-p-m-fridays-2/2026-05-15/
LOCATION:Location\, 1860 S 9th St.\, St. Louis\, MO\, 63104\, United States
CATEGORIES:live music
ATTACH;FMTTYPE=image/jpeg:https://1860saloon.com/wp-content/uploads/2025/04/rick-green--scaled.jpeg
END:VEVENT
BEGIN:VEVENT
DTSTART;VALUE=DATE:20260516
DTEND;VALUE=DATE:20260517
DTSTAMP:20260422T103414
CREATED:20260208T181149Z
LAST-MODIFIED:20260208T181800Z
UID:10004169-1778889600-1778975999@1860saloon.com
SUMMARY:Music: Soul Reunion\, 2-6 pm\, no cover
DESCRIPTION:Saturday fun in the Saloon! 2-6 p.m.
URL:https://1860saloon.com/event/music-soul-reunion-2-6-pm-no-cover-2-2-2/2026-05-16/
LOCATION:Location\, 1860 S 9th St.\, St. Louis\, MO\, 63104\, United States
CATEGORIES:live music
ATTACH;FMTTYPE=image/jpeg:https://1860saloon.com/wp-content/uploads/2025/04/1860-Saloon-Live-Music-scaled.jpg
END:VEVENT
BEGIN:VEVENT
DTSTART;VALUE=DATE:20260518
DTEND;VALUE=DATE:20260519
DTSTAMP:20260422T103414
CREATED:20251230T020516Z
LAST-MODIFIED:20251230T020608Z
UID:10004000-1779062400-1779148799@1860saloon.com
SUMMARY:Live in 1860 Saloon: Natchez Whistle (Nate & Dan)\, 8-midnight\, no cover
DESCRIPTION:Live music In the Saloon playing Americana. No Cover
URL:https://1860saloon.com/event/live-in-1860-saloon-natchez-whistle-nate-dan-8-midnight-no-cover-2-2/2026-05-18/
LOCATION:Location\, 1860 S 9th St.\, St. Louis\, MO\, 63104\, United States
CATEGORIES:live music
ATTACH;FMTTYPE=image/jpeg:https://1860saloon.com/wp-content/uploads/2025/04/Natchez-Whistle-Nate-Dan-scaled-1.jpg
END:VEVENT
BEGIN:VEVENT
DTSTART;VALUE=DATE:20260519
DTEND;VALUE=DATE:20260520
DTSTAMP:20260422T103414
CREATED:20250508T161121Z
LAST-MODIFIED:20251230T020855Z
UID:10004052-1779148800-1779235199@1860saloon.com
SUMMARY:Open Mic Night Every Tuesday in the 1860 Saloon\, 8 to Midnight
DESCRIPTION:See why many local musicians made this part of their career journey – and keep coming back for the fun! No cover
URL:https://1860saloon.com/event/open-mic-night-every-tuesday-in-the-1860-saloon-9-1-a-m-2/2026-05-19/
LOCATION:Location\, 1860 S 9th St.\, St. Louis\, MO\, 63104\, United States
CATEGORIES:live music
ATTACH;FMTTYPE=image/jpeg:https://1860saloon.com/wp-content/uploads/2025/04/1860s-Open-Mic-Pic.jpg
END:VEVENT
BEGIN:VEVENT
DTSTART;VALUE=DATE:20260522
DTEND;VALUE=DATE:20260523
DTSTAMP:20260422T103414
CREATED:20250508T180042Z
LAST-MODIFIED:20251230T021535Z
UID:10004117-1779408000-1779494399@1860saloon.com
SUMMARY:Music in the Saloon! Rick Green & Friend\, 6 to 8 p.m. Fridays
DESCRIPTION:Kick off the weekend with Rick and friends in the Saloon\, 6 to 8 p.m. \nFriends scheduled monthly: First Friday is Mike Thomas. Second and fifth Friday is Tio. Solo on the third Friday and with Jammin Jaymz joins him on the fourth Friday of the month.
URL:https://1860saloon.com/event/music-in-the-saloon-rick-green-friend-6-to-8-p-m-fridays-2/2026-05-22/
LOCATION:Location\, 1860 S 9th St.\, St. Louis\, MO\, 63104\, United States
CATEGORIES:live music
ATTACH;FMTTYPE=image/jpeg:https://1860saloon.com/wp-content/uploads/2025/04/rick-green--scaled.jpeg
END:VEVENT
BEGIN:VEVENT
DTSTART;VALUE=DATE:20260523
DTEND;VALUE=DATE:20260524
DTSTAMP:20260422T103414
CREATED:20260208T181149Z
LAST-MODIFIED:20260208T181800Z
UID:10004170-1779494400-1779580799@1860saloon.com
SUMMARY:Music: Soul Reunion\, 2-6 pm\, no cover
DESCRIPTION:Saturday fun in the Saloon! 2-6 p.m.
URL:https://1860saloon.com/event/music-soul-reunion-2-6-pm-no-cover-2-2-2/2026-05-23/
LOCATION:Location\, 1860 S 9th St.\, St. Louis\, MO\, 63104\, United States
CATEGORIES:live music
ATTACH;FMTTYPE=image/jpeg:https://1860saloon.com/wp-content/uploads/2025/04/1860-Saloon-Live-Music-scaled.jpg
END:VEVENT
BEGIN:VEVENT
DTSTART;VALUE=DATE:20260525
DTEND;VALUE=DATE:20260526
DTSTAMP:20260422T103414
CREATED:20251230T020516Z
LAST-MODIFIED:20251230T020608Z
UID:10004001-1779667200-1779753599@1860saloon.com
SUMMARY:Live in 1860 Saloon: Natchez Whistle (Nate & Dan)\, 8-midnight\, no cover
DESCRIPTION:Live music In the Saloon playing Americana. No Cover
URL:https://1860saloon.com/event/live-in-1860-saloon-natchez-whistle-nate-dan-8-midnight-no-cover-2-2/2026-05-25/
LOCATION:Location\, 1860 S 9th St.\, St. Louis\, MO\, 63104\, United States
CATEGORIES:live music
ATTACH;FMTTYPE=image/jpeg:https://1860saloon.com/wp-content/uploads/2025/04/Natchez-Whistle-Nate-Dan-scaled-1.jpg
END:VEVENT
BEGIN:VEVENT
DTSTART;VALUE=DATE:20260526
DTEND;VALUE=DATE:20260527
DTSTAMP:20260422T103414
CREATED:20250508T161121Z
LAST-MODIFIED:20251230T020855Z
UID:10004053-1779753600-1779839999@1860saloon.com
SUMMARY:Open Mic Night Every Tuesday in the 1860 Saloon\, 8 to Midnight
DESCRIPTION:See why many local musicians made this part of their career journey – and keep coming back for the fun! No cover
URL:https://1860saloon.com/event/open-mic-night-every-tuesday-in-the-1860-saloon-9-1-a-m-2/2026-05-26/
LOCATION:Location\, 1860 S 9th St.\, St. Louis\, MO\, 63104\, United States
CATEGORIES:live music
ATTACH;FMTTYPE=image/jpeg:https://1860saloon.com/wp-content/uploads/2025/04/1860s-Open-Mic-Pic.jpg
END:VEVENT
BEGIN:VEVENT
DTSTART;VALUE=DATE:20260529
DTEND;VALUE=DATE:20260530
DTSTAMP:20260422T103414
CREATED:20250508T180042Z
LAST-MODIFIED:20251230T021535Z
UID:10004118-1780012800-1780099199@1860saloon.com
SUMMARY:Music in the Saloon! Rick Green & Friend\, 6 to 8 p.m. Fridays
DESCRIPTION:Kick off the weekend with Rick and friends in the Saloon\, 6 to 8 p.m. \nFriends scheduled monthly: First Friday is Mike Thomas. Second and fifth Friday is Tio. Solo on the third Friday and with Jammin Jaymz joins him on the fourth Friday of the month.
URL:https://1860saloon.com/event/music-in-the-saloon-rick-green-friend-6-to-8-p-m-fridays-2/2026-05-29/
LOCATION:Location\, 1860 S 9th St.\, St. Louis\, MO\, 63104\, United States
CATEGORIES:live music
ATTACH;FMTTYPE=image/jpeg:https://1860saloon.com/wp-content/uploads/2025/04/rick-green--scaled.jpeg
END:VEVENT
BEGIN:VEVENT
DTSTART;VALUE=DATE:20260530
DTEND;VALUE=DATE:20260531
DTSTAMP:20260422T103414
CREATED:20260208T181149Z
LAST-MODIFIED:20260208T181800Z
UID:10004171-1780099200-1780185599@1860saloon.com
SUMMARY:Music: Soul Reunion\, 2-6 pm\, no cover
DESCRIPTION:Saturday fun in the Saloon! 2-6 p.m.
URL:https://1860saloon.com/event/music-soul-reunion-2-6-pm-no-cover-2-2-2/2026-05-30/
LOCATION:Location\, 1860 S 9th St.\, St. Louis\, MO\, 63104\, United States
CATEGORIES:live music
ATTACH;FMTTYPE=image/jpeg:https://1860saloon.com/wp-content/uploads/2025/04/1860-Saloon-Live-Music-scaled.jpg
END:VEVENT
END:VCALENDAR